BEGIN:VCALENDAR
VERSION:2.0
PRODID:-//Plone.org//NONSGML plone.app.event//EN
X-WR-TIMEZONE:Europe/Rome
BEGIN:VEVENT
SUMMARY:Seminario di Geometria e Algebra UNIBA - POLIBA – A.C. Ferreira
DTSTART;TZID=Europe/Rome;VALUE=DATE-TIME:20250505T153000
DTEND;TZID=Europe/Rome;VALUE=DATE-TIME:20250505T163000
DTSTAMP;VALUE=DATE-TIME:20260423T182424Z
UID:05ef4787561c4593bddb2895070ef660-it@localhost:8080
CREATED;VALUE=DATE-TIME:20230301T150255Z
LAST-MODIFIED;VALUE=DATE-TIME:20250512T105223Z
LOCATION:aula IX\, Dipartimento di Matematica\, UniBa
URL:https://www.dm.uniba.it/it/risorse/bacheca-conferenze-e-convegni/sga-u
 niba-poliba/sga-ferreira
END:VEVENT
BEGIN:VTIMEZONE
TZID:Europe/Rome
X-LIC-LOCATION:Europe/Rome
BEGIN:DAYLIGHT
DTSTART;VALUE=DATE-TIME:20250330T030000
TZNAME:CEST
TZOFFSETFROM:+0100
TZOFFSETTO:+0200
END:DAYLIGHT
END:VTIMEZONE
END:VCALENDAR
