BEGIN:VCALENDAR
VERSION:2.0
PRODID:-//Plone.org//NONSGML plone.app.event//EN
X-WR-TIMEZONE:Europe/Rome
BEGIN:VEVENT
SUMMARY:Seminario di Geometria e Algebra UNIBA - POLIBA – T. Mora
DTSTART;TZID=Europe/Rome;VALUE=DATE-TIME:20240506T150000
DTEND;TZID=Europe/Rome;VALUE=DATE-TIME:20240506T160000
DTSTAMP;VALUE=DATE-TIME:20260423T150523Z
UID:2cf15f69fa2541848f3619f4bf91a4b8-it@localhost:8080
CREATED;VALUE=DATE-TIME:20230301T150255Z
LAST-MODIFIED;VALUE=DATE-TIME:20240513T052244Z
LOCATION:DMMM PoliBa\, aula multimediale (secondo piano)
URL:https://www.dm.uniba.it/it/risorse/bacheca-conferenze-e-convegni/sga-u
 niba-poliba/copy_of_sga-russo
END:VEVENT
BEGIN:VTIMEZONE
TZID:Europe/Rome
X-LIC-LOCATION:Europe/Rome
BEGIN:DAYLIGHT
DTSTART;VALUE=DATE-TIME:20240331T030000
TZNAME:CEST
TZOFFSETFROM:+0100
TZOFFSETTO:+0200
END:DAYLIGHT
END:VTIMEZONE
END:VCALENDAR
