BEGIN:VCALENDAR
VERSION:2.0
PRODID:-//Plone.org//NONSGML plone.app.event//EN
X-WR-TIMEZONE:Europe/Rome
BEGIN:VEVENT
SUMMARY:ONE 2024: a One-day meeting in Nonlinear differential Equations
DTSTART;TZID=Europe/Rome;VALUE=DATE-TIME:20240205T083000
DTSTAMP;VALUE=DATE-TIME:20260420T021322Z
UID:3d7e31e8a5bc40049f75df6b4dfbc609@localhost:8080
CREATED;VALUE=DATE-TIME:20240104T222722Z
LAST-MODIFIED;VALUE=DATE-TIME:20240226T181420Z
LOCATION:aula I - Dipartimento di Matematica - UniBa
URL:https://www.dm.uniba.it/it/ricerca/convegni/2024/one-2024-a-one-day-me
 eting-in-nonlinear-differential-equations
END:VEVENT
BEGIN:VTIMEZONE
TZID:Europe/Rome
X-LIC-LOCATION:Europe/Rome
BEGIN:STANDARD
DTSTART;VALUE=DATE-TIME:20231029T020000
TZNAME:CET
TZOFFSETFROM:+0200
TZOFFSETTO:+0100
END:STANDARD
END:VTIMEZONE
END:VCALENDAR
