BEGIN:VCALENDAR
VERSION:2.0
PRODID:-//Plone.org//NONSGML plone.app.event//EN
X-WR-TIMEZONE:Europe/Rome
BEGIN:VEVENT
SUMMARY:Mathematics Education in the Digital Age - MEDA 4
DTSTART;TZID=Europe/Rome;VALUE=DATE-TIME:20240903T090000
DTEND;TZID=Europe/Rome;VALUE=DATE-TIME:20240906T180000
DTSTAMP;VALUE=DATE-TIME:20260422T165147Z
UID:02f7fa1d6322411c8e623df5cd5538bf@localhost:8080
CREATED;VALUE=DATE-TIME:20240104T222722Z
LAST-MODIFIED;VALUE=DATE-TIME:20240917T094711Z
LOCATION:UniBa
URL:https://www.dm.uniba.it/it/ricerca/convegni/2024/meda4-1
END:VEVENT
BEGIN:VTIMEZONE
TZID:Europe/Rome
X-LIC-LOCATION:Europe/Rome
BEGIN:DAYLIGHT
DTSTART;VALUE=DATE-TIME:20240331T030000
TZNAME:CEST
TZOFFSETFROM:+0100
TZOFFSETTO:+0200
END:DAYLIGHT
END:VTIMEZONE
END:VCALENDAR
