BEGIN:VCALENDAR
VERSION:2.0
PRODID:-//Plone.org//NONSGML plone.app.event//EN
X-WR-TIMEZONE:Europe/Rome
BEGIN:VEVENT
SUMMARY:Puglia Summer Trimester 2023 - Singularities\, Asymptotics and Lim
 iting Models - Evento divulgativo
DTSTART;TZID=Europe/Rome;VALUE=DATE-TIME:20230515T153000
DTSTAMP;VALUE=DATE-TIME:20260423T132308Z
UID:c4cc8b499b594bcd850d69f1b1221459@localhost:8080
CREATED;VALUE=DATE-TIME:20230327T172602Z
LAST-MODIFIED;VALUE=DATE-TIME:20230516T171216Z
LOCATION:aula VIII - Dipartimento di Matematica - UniBa
URL:https://www.dm.uniba.it/it/ricerca/convegni/2023/pst-2023-pop-science
END:VEVENT
BEGIN:VTIMEZONE
TZID:Europe/Rome
X-LIC-LOCATION:Europe/Rome
BEGIN:DAYLIGHT
DTSTART;VALUE=DATE-TIME:20230326T030000
TZNAME:CEST
TZOFFSETFROM:+0100
TZOFFSETTO:+0200
END:DAYLIGHT
END:VTIMEZONE
END:VCALENDAR
