BEGIN:VCALENDAR
VERSION:2.0
PRODID:-//Plone.org//NONSGML plone.app.event//EN
X-WR-TIMEZONE:Europe/Rome
BEGIN:VEVENT
SUMMARY:Puglia Summer Trimester 2023 - Singularities\, Asymptotics and Lim
 iting Models - Conference
DTSTART;TZID=Europe/Rome;VALUE=DATE-TIME:20230626T090000
DTEND;TZID=Europe/Rome;VALUE=DATE-TIME:20230630T123000
DTSTAMP;VALUE=DATE-TIME:20260420T101206Z
UID:fff482b34f9043cea64b2864bd2bed19@localhost:8080
CREATED;VALUE=DATE-TIME:20230327T172602Z
LAST-MODIFIED;VALUE=DATE-TIME:20230630T172143Z
LOCATION:Dipartimento di Matematica - UniBa
URL:https://www.dm.uniba.it/it/ricerca/convegni/2023/pst-2023-conference
END:VEVENT
BEGIN:VTIMEZONE
TZID:Europe/Rome
X-LIC-LOCATION:Europe/Rome
BEGIN:DAYLIGHT
DTSTART;VALUE=DATE-TIME:20230326T030000
TZNAME:CEST
TZOFFSETFROM:+0100
TZOFFSETTO:+0200
END:DAYLIGHT
END:VTIMEZONE
END:VCALENDAR
