BEGIN:VCALENDAR
VERSION:2.0
PRODID:-//Plone.org//NONSGML plone.app.event//EN
X-WR-TIMEZONE:Europe/Rome
BEGIN:VEVENT
SUMMARY:N.Ikoma / ( Cingolani )
DTSTART;TZID=Europe/Rome;VALUE=DATE-TIME:20260421T120000
DTEND;TZID=Europe/Rome;VALUE=DATE-TIME:20260421T130000
DTSTAMP;VALUE=DATE-TIME:20260421T204109Z
UID:8a66ae82b31f4c919eaf24a729da2fb5@localhost:8080
CATEGORIES:conferenze 2026
CREATED;VALUE=DATE-TIME:20260421T100724Z
LAST-MODIFIED;VALUE=DATE-TIME:20260421T100725Z
LOCATION:Aula I Dipartimento di Matematica
URL:https://www.dm.uniba.it/it/ricerca/conferenze/2026/n-ikoma-cingolani
END:VEVENT
BEGIN:VTIMEZONE
TZID:Europe/Rome
X-LIC-LOCATION:Europe/Rome
BEGIN:DAYLIGHT
DTSTART;VALUE=DATE-TIME:20260329T030000
TZNAME:CEST
TZOFFSETFROM:+0100
TZOFFSETTO:+0200
END:DAYLIGHT
END:VTIMEZONE
END:VCALENDAR
