BEGIN:VCALENDAR
VERSION:2.0
PRODID:-//Plone.org//NONSGML plone.app.event//EN
X-WR-TIMEZONE:Europe/Rome
BEGIN:VEVENT
SUMMARY:M. L. Overton (Garrappa)
DTSTART;TZID=Europe/Rome;VALUE=DATE-TIME:20250514T150000
DTEND;TZID=Europe/Rome;VALUE=DATE-TIME:20250514T160000
DTSTAMP;VALUE=DATE-TIME:20260423T153733Z
UID:e491c695140248f1822edffa53aee3aa@localhost:8080
CREATED;VALUE=DATE-TIME:20250505T093617Z
LAST-MODIFIED;VALUE=DATE-TIME:20250505T093617Z
LOCATION:Aula XI del Dipartimento di Matematica - UniBA
URL:https://www.dm.uniba.it/it/ricerca/conferenze/2025/m-l-overton-garrapp
 a
END:VEVENT
BEGIN:VTIMEZONE
TZID:Europe/Rome
X-LIC-LOCATION:Europe/Rome
BEGIN:DAYLIGHT
DTSTART;VALUE=DATE-TIME:20250330T030000
TZNAME:CEST
TZOFFSETFROM:+0100
TZOFFSETTO:+0200
END:DAYLIGHT
END:VTIMEZONE
END:VCALENDAR
