BEGIN:VCALENDAR
VERSION:2.0
PRODID:-//Plone.org//NONSGML plone.app.event//EN
X-WR-TIMEZONE:Europe/Rome
BEGIN:VEVENT
SUMMARY:L. Rapoport ( N. Del Buono)
DTSTART;TZID=Europe/Rome;VALUE=DATE-TIME:20251119T090000
DTEND;TZID=Europe/Rome;VALUE=DATE-TIME:20251119T113000
DTSTAMP;VALUE=DATE-TIME:20260419T193435Z
UID:0e471f1b6c61473c83a372d82bb1f78e@localhost:8080
CREATED;VALUE=DATE-TIME:20251030T104532Z
LAST-MODIFIED;VALUE=DATE-TIME:20251030T131622Z
LOCATION:Aula III del Dipartimento di Matematica - UniBA
URL:https://www.dm.uniba.it/it/ricerca/conferenze/2025/l-rapoport-del-buon
 o-4
END:VEVENT
BEGIN:VTIMEZONE
TZID:Europe/Rome
X-LIC-LOCATION:Europe/Rome
BEGIN:STANDARD
DTSTART;VALUE=DATE-TIME:20251026T020000
TZNAME:CET
TZOFFSETFROM:+0200
TZOFFSETTO:+0100
END:STANDARD
END:VTIMEZONE
END:VCALENDAR
