BEGIN:VCALENDAR
VERSION:2.0
PRODID:-//Plone.org//NONSGML plone.app.event//EN
X-WR-TIMEZONE:Europe/Rome
BEGIN:VEVENT
SUMMARY:Speaker L. Asselle (S. Cingolani)
DTSTART;TZID=Europe/Rome;VALUE=DATE-TIME:20240507T150000
DTEND;TZID=Europe/Rome;VALUE=DATE-TIME:20240507T160000
DTSTAMP;VALUE=DATE-TIME:20260419T165749Z
UID:3f7405d01bcc4536a981465502671217@localhost:8080
CREATED;VALUE=DATE-TIME:20240502T080936Z
LAST-MODIFIED;VALUE=DATE-TIME:20240513T052343Z
LOCATION:aula VI
URL:https://www.dm.uniba.it/it/ricerca/conferenze/2024/l-asselle-s-cingola
 ni
END:VEVENT
BEGIN:VTIMEZONE
TZID:Europe/Rome
X-LIC-LOCATION:Europe/Rome
BEGIN:DAYLIGHT
DTSTART;VALUE=DATE-TIME:20240331T030000
TZNAME:CEST
TZOFFSETFROM:+0100
TZOFFSETTO:+0200
END:DAYLIGHT
END:VTIMEZONE
END:VCALENDAR
