BEGIN:VCALENDAR
VERSION:2.0
PRODID:-//Plone.org//NONSGML plone.app.event//EN
X-WR-TIMEZONE:Europe/Rome
BEGIN:VEVENT
SUMMARY:C.Furio ( Del Buono)
DTSTART;TZID=Europe/Rome;VALUE=DATE-TIME:20241211T084500
DTEND;TZID=Europe/Rome;VALUE=DATE-TIME:20241211T094500
DTSTAMP;VALUE=DATE-TIME:20260420T083552Z
UID:378a9f4248894b54877ba3ec2eadb491@localhost:8080
CATEGORIES:conferenze 2024
CREATED;VALUE=DATE-TIME:20241204T074621Z
LAST-MODIFIED;VALUE=DATE-TIME:20241204T074623Z
LOCATION:Aula III del Dipartimento di Matematica - UniBA
URL:https://www.dm.uniba.it/it/ricerca/conferenze/2024/c-furio-del-buono-2
END:VEVENT
BEGIN:VTIMEZONE
TZID:Europe/Rome
X-LIC-LOCATION:Europe/Rome
BEGIN:STANDARD
DTSTART;VALUE=DATE-TIME:20241027T020000
TZNAME:CET
TZOFFSETFROM:+0200
TZOFFSETTO:+0100
END:STANDARD
END:VTIMEZONE
END:VCALENDAR
