BEGIN:VCALENDAR
VERSION:2.0
PRODID:-//Plone.org//NONSGML plone.app.event//EN
X-WR-TIMEZONE:Europe/Rome
BEGIN:VEVENT
SUMMARY:Speaker S. Dipierro (S. Cingolani)
DTSTART;TZID=Europe/Rome;VALUE=DATE-TIME:20230704T153000
DTEND;TZID=Europe/Rome;VALUE=DATE-TIME:20230704T163000
DTSTAMP;VALUE=DATE-TIME:20260420T101213Z
UID:094d6159849943e6ae5f5edb99f293e6@localhost:8080
CREATED;VALUE=DATE-TIME:20230609T083239Z
LAST-MODIFIED;VALUE=DATE-TIME:20230719T092012Z
LOCATION:Aula I - Dipartimento di Matematica - UniBA
URL:https://www.dm.uniba.it/it/ricerca/conferenze/2023/speaker-s-dipierro-
 s-cingolani
END:VEVENT
BEGIN:VTIMEZONE
TZID:Europe/Rome
X-LIC-LOCATION:Europe/Rome
BEGIN:DAYLIGHT
DTSTART;VALUE=DATE-TIME:20230326T030000
TZNAME:CEST
TZOFFSETFROM:+0100
TZOFFSETTO:+0200
END:DAYLIGHT
END:VTIMEZONE
END:VCALENDAR
