BEGIN:VCALENDAR
VERSION:2.0
PRODID:-//Plone.org//NONSGML plone.app.event//EN
X-WR-TIMEZONE:Europe/Rome
BEGIN:VEVENT
SUMMARY:Speaker  M. Del Pino (S. Cingolani)
DTSTART;TZID=Europe/Rome;VALUE=DATE-TIME:20230926T153000
DTEND;TZID=Europe/Rome;VALUE=DATE-TIME:20230926T163000
DTSTAMP;VALUE=DATE-TIME:20260420T114512Z
UID:479b62419dd84c45be013530d67b0495@localhost:8080
CREATED;VALUE=DATE-TIME:20230908T122457Z
LAST-MODIFIED;VALUE=DATE-TIME:20231005T153506Z
LOCATION:Aula I - Dipartimento di Matematica - UniBA
URL:https://www.dm.uniba.it/it/ricerca/conferenze/2023/speaker-m-del-pino-
 s-cingolani
END:VEVENT
BEGIN:VTIMEZONE
TZID:Europe/Rome
X-LIC-LOCATION:Europe/Rome
BEGIN:DAYLIGHT
DTSTART;VALUE=DATE-TIME:20230326T030000
TZNAME:CEST
TZOFFSETFROM:+0100
TZOFFSETTO:+0200
END:DAYLIGHT
END:VTIMEZONE
END:VCALENDAR
