BEGIN:VCALENDAR
VERSION:2.0
PRODID:-//Plone.org//NONSGML plone.app.event//EN
X-WR-TIMEZONE:Europe/Rome
BEGIN:VEVENT
SUMMARY:Seminario di Geometria e Algebra UNIBA - POLIBA – O. Calvo-Andra
 de
DTSTART;TZID=Europe/Rome;VALUE=DATE-TIME:20241126T160000
DTEND;TZID=Europe/Rome;VALUE=DATE-TIME:20241126T170000
DTSTAMP;VALUE=DATE-TIME:20260423T163212Z
UID:49456a2cffa44f1aa7e0a2b63b4245c3-en@localhost:8080
CREATED;VALUE=DATE-TIME:20230301T150255Z
LAST-MODIFIED;VALUE=DATE-TIME:20241202T075743Z
LOCATION:aula X\, Dipartimento di Matematica\, Università degli Studi di 
 Bari Aldo Moro
URL:https://www.dm.uniba.it/en/assets/bacheca-conferenze-e-convegni/sga-un
 iba-poliba/sga-calvo-andrade
END:VEVENT
BEGIN:VTIMEZONE
TZID:Europe/Rome
X-LIC-LOCATION:Europe/Rome
BEGIN:STANDARD
DTSTART;VALUE=DATE-TIME:20241027T020000
TZNAME:CET
TZOFFSETFROM:+0200
TZOFFSETTO:+0100
END:STANDARD
END:VTIMEZONE
END:VCALENDAR
